BEGIN:VCALENDAR
VERSION:2.0
PRODID:-//Es Spēs - ECPv6.15.20//NONSGML v1.0//EN
CALSCALE:GREGORIAN
METHOD:PUBLISH
X-ORIGINAL-URL:https://esspes.fr
X-WR-CALDESC:Évènements pour Es Spēs
REFRESH-INTERVAL;VALUE=DURATION:PT1H
X-Robots-Tag:noindex
X-PUBLISHED-TTL:PT1H
BEGIN:VTIMEZONE
TZID:Europe/Paris
BEGIN:DAYLIGHT
TZOFFSETFROM:+0100
TZOFFSETTO:+0200
TZNAME:CEST
DTSTART:20230326T010000
END:DAYLIGHT
BEGIN:STANDARD
TZOFFSETFROM:+0200
TZOFFSETTO:+0100
TZNAME:CET
DTSTART:20231029T010000
END:STANDARD
BEGIN:DAYLIGHT
TZOFFSETFROM:+0100
TZOFFSETTO:+0200
TZNAME:CEST
DTSTART:20240331T010000
END:DAYLIGHT
BEGIN:STANDARD
TZOFFSETFROM:+0200
TZOFFSETTO:+0100
TZNAME:CET
DTSTART:20241027T010000
END:STANDARD
BEGIN:DAYLIGHT
TZOFFSETFROM:+0100
TZOFFSETTO:+0200
TZNAME:CEST
DTSTART:20250330T010000
END:DAYLIGHT
BEGIN:STANDARD
TZOFFSETFROM:+0200
TZOFFSETTO:+0100
TZNAME:CET
DTSTART:20251026T010000
END:STANDARD
END:VTIMEZONE
BEGIN:VEVENT
DTSTART;TZID=Europe/Paris:20240824T151500
DTEND;TZID=Europe/Paris:20240824T163000
DTSTAMP:20260422T085147
CREATED:20240705T132609Z
LAST-MODIFIED:20240705T132609Z
UID:807-1724512500-1724517000@esspes.fr
SUMMARY:"Les mondes de demain" au festival Renc'arts - Augerolles
DESCRIPTION:Durant le festival Renc’arts\, organisé par l’association Arts-Jeux-Rôles\, la compagnie est invitée à vous présenter son spectacle « Les mondes de demains » dans la rue ! \n\nProposez-nous vos envies et vos peurs pour le monde de demain\, et nous nous chargeons de les illustrer durant notre spectacle improvisé. \nSur le principe des utopies et dystopies\, le public est amené à nous partager ses idées par écrit avant le spectacle. Ces idées nous serviront d’impulsions pour créer une multitude de mondes différents où joies et peines peuvent s’exprimer\, bonheur et malheur survenir. \nQue ferions-nous si tout le monde pouvait voler ? S’il n’y avait que de la joie dans le monde ? Si nous étions tout le temps en vacances ? Si le monde était devenu fasciste ? … \n\nEntrée libre\nSpectacle tout public \nPlus d’informations: https://arts-jeux-roles.e-monsite.com/ \n« Les mondes de demain »\, cabaret d’improvisation participatif \n \n  \n 
URL:https://esspes.fr/event/les-mondes-de-demain-au-festival-rencarts-augerolles/
LOCATION:Augerolles
CATEGORIES:Les mondes de demain,Théâtre d'improvisation
ATTACH;FMTTYPE=image/jpeg:https://esspes.fr/wp-content/uploads/2024/07/affiche-programmes-commerces-2024.jpg
END:VEVENT
END:VCALENDAR